Workbook
Name Entregas: [1]APOIO!$T$2:$T$4
Name familia: [1]APOIO!$O$2:$O$6
Name peso: [1]APOIO!$R$2:$R$5
Name produto: [1]APOIO!$P$2:$P$13

Sheet Clientes
A1: 2.2 Base de clientes
A2: O QUE PREENCHER: | D2: Criar um número de referência por cliente e sempre usar esta mesma referência para o cliente | E2: Cuidado para utilizar sempre o mesmo nome, sem mudar a forma de escrita nos relatórios | F2: Necessário para PJ, com validação dos códigos | G2: Campo obrigatório para separar as bases de prospect | H2: Código da região do telefone | I2: Tel fixo ou celular necessários | J2: E-mail de quem trata rotina no cliente, compras por exemplo | K2: USAR LISTA: - Loja - Indústria - Construtora -Consumidor | L2: Endereço completo separado campo a campo | M2: Informar mesmo que não tenha número ("s/n") | P2: Estado do endereço do cliente | Q2: Município do endereço conforme IBGE padrão da lista na aba APOIO | R2: FÓRMULA: puxar até última linha preenchida para encontrar código IBGE | S2: FÓRMULA: precisa encontrar resultado para conseguir fazer o upload | T2: Valor estimado de faturamento total no ano, com todos os produtos que comercialize. Informação consultável pelo CNPJ | U2: Médio mês em tonelada, soma do volume de cimento de todas as marcas que ele possua | V2: Percentual do faturamento do cimento com relação ao total de produtos, quanto cimento representa do total
A3: COMO PREENCHER: (*obrigatório) | B3: Primeiro nome fantasia como grupo | C3: Nome unidade pela cidade | D3: Ajustar regra para até 10 caraceres numericos, sem simboloso ou espaços* | E3: Campo com nome do cliente, aceita se houver texto e ao menos 5 caracteres* | F3: Formatação de texto. Somente números sem símbolos nem espaços, 11 ou 14 caracteres e não aceita tudo 0* | G3: Dia, mês e ano separado por barras, formato de data (dd/mm/aaaa)* | H3: Somente 2 números, sem símbolos ou espaços* | I3: Sem espaço, sem traço, sem ponto. Somente número, 8 a 9 caracteres* | J3: Formato usual de e-mail separado por @ sendo .com ou .com.br | K3: Conforme lista acima, atenção a acento* | L3: Sem abreviações: Rua, Avenida ou Rodovia. Sem símbolos. Separando os campos | M3: Campo numérico ou s/n quando não houver | N3: campo texto, aberto* | O3: 8 caracteres, formatação de texto, separar com hífen | P3: 2 caracteres de texto* | Q3: Usar nomenclatura do IBGE conforme aba APOIO listas* | R3: Se gerar "não encontrado", checar o nome do Município na lista do IBGE e escrever conforme escrito nela (símbolos e espaços interferem na leitura da fórmula)* | S3: Se gerar "não encontrado", checar o nome do Município na lista do IBGE e escrever conforme escrito nela (símbolos e espaços interferem na leitura da fórmula)* | T3: campo numérico, sem símbolos | U3: campo numérico, sem símbolos | V3: campo percentual, sem símbolos
A4: KDM | B4: AGENTE | C4: UNIDADE | D4: Código do Cliente | E4: Nome do Cliente | F4: CNPJ | G4: Data do Cadastro | H4: DDD | I4: Telefone | J4: E-mail | K4: Canal | L4: Endereço | M4: Número | N4: Bairro | O4: CEP | P4: UF | Q4: Município | R4: UF_Município | S4: Cód IBGE | T4: Faturamento Anual Total | U4: Consumo de Cimento (t m) | V4: Representatividade do cimento no negócio
A5: FREDERICO | B5: JB | C5: BELO HORIZONTE | D5: 1 | E5: COMERCIAL HELIOMAR LTDA | F5: 17460221000145 | G5: 41967 | H5: 31 | I5: 36723696 | K5: LOJA | L5: PCA NSRA ASSUNCAO | M5: 47 | N5: RAVENA | O5: 34600-005 | P5: MG | Q5: Sabará | R5: =IF(Q5="","",P5&"_"&Q5) -> MG_Sabará | S5: =IF(R5="","",IFERROR(VLOOKUP(R5,APOIO!$D:$E,2,0),"Não Encontrado")) -> 3156700
A6: FREDERICO | B6: JB | C6: BELO HORIZONTE | D6: 3 | E6: ELETRO FERRAGENS PALHARES LTDA | F6: 01527426000160 | G6: 41976 | H6: 31 | I6: 34540477 | K6: LOJA | L6: AVENIDA DO CONTORNO | M6: 3575 | N6: SANTA EFIGENIA | O6: 30110-018 | P6: MG | Q6: BELO HORIZONTE | R6: =IF(Q6="","",P6&"_"&Q6) -> MG_BELO HORIZONTE | S6: =IF(R6="","",IFERROR(VLOOKUP(R6,APOIO!$D:$E,2,0),"Não Encontrado")) -> 3106200
A7: FREDERICO | B7: JB | C7: BELO HORIZONTE | D7: 4 | E7: ROGERIO SOARES DE AZEVEDO | F7: 07821056000156 | G7: 41976 | H7: 31 | I7: 34937167 | K7: LOJA | L7: RUA LEILA DINIZ | M7: 92 | N7: JAQUELINE | O7: 31999-999 | P7: MG | Q7: BELO HORIZONTE | R7: =IF(Q7="","",P7&"_"&Q7) -> MG_BELO HORIZONTE | S7: =IF(R7="","",IFERROR(VLOOKUP(R7,APOIO!$D:$E,2,0),"Não Encontrado")) -> 3106200
A8: FREDERICO | B8: JB | C8: BELO HORIZONTE | D8: 5 | E8: EVERALDO ALVES VIEIRA 07051885669 | F8: 15317038000160 | G8: 41976 | H8: 31 | I8: 34937167 | K8: LOJA | L8: RUA AUGUSTA SACCHETTO SCALZO | M8: 193 | N8: JARDIM VITORIA | O8: 31970-570 | P8: MG | Q8: BELO HORIZONTE | R8: =IF(Q8="","",P8&"_"&Q8) -> MG_BELO HORIZONTE | S8: =IF(R8="","",IFERROR(VLOOKUP(R8,APOIO!$D:$E,2,0),"Não Encontrado")) -> 3106200
A9: FREDERICO | B9: JB | C9: BELO HORIZONTE | D9: 6 | E9: EVERALDO ALVES VIEIRA | F9: 07051885669 | G9: 41976 | H9: 31 | I9: 34479771 | K9: CONSUMIDOR | L9: RUA AUGUSTA SACCHETTO SCALZO | M9: 193 | N9: JARDIM VITORIA | O9: 31970-570 | P9: MG | Q9: BELO HORIZONTE | R9: =IF(Q9="","",P9&"_"&Q9) -> MG_BELO HORIZONTE | S9: =IF(R9="","",IFERROR(VLOOKUP(R9,APOIO!$D:$E,2,0),"Não Encontrado")) -> 3106200
A10: FREDERICO | B10: JB | C10: BELO HORIZONTE | D10: 7 | E10: ADRIELE DA SILVA AGUIAR | F10: 08754948622 | G10: 41976 | H10: 31 | I10: 34223204 | K10: CONSUMIDOR | L10: RUA CAETE | M10: 122 | N10: N SENHORA FATIMA | O10: 34600-005 | P10: MG | Q10: Sabará | R10: =IF(Q10="","",P10&"_"&Q10) -> MG_Sabará | S10: =IF(R10="","",IFERROR(VLOOKUP(R10,APOIO!$D:$E,2,0),"Não Encontrado")) -> 3156700
A11: FREDERICO | B11: JB | C11: BELO HORIZONTE | D11: 8 | E11: MARIA GERALDA VIEIRA ME | F11: 06154717000174 | G11: 41976 | H11: 31 | I11: 34886418 | K11: LOJA | L11: RUA MENDES DE OLIVEIRA | M11: 265 | N11: SANTO ANDRE | O11: 31210-610 | P11: MG | Q11: BELO HORIZONTE | R11: =IF(Q11="","",P11&"_"&Q11) -> MG_BELO HORIZONTE | S11: =IF(R11="","",IFERROR(VLOOKUP(R11,APOIO!$D:$E,2,0),"Não Encontrado")) -> 3106200
A12: FREDERICO | B12: JB | C12: BELO HORIZONTE | D12: 10 | E12: DMS MATS DE CONSTRUCAO LTDA | F12: 06935972000154 | G12: 41976 | H12: 31 | I12: 34456345 | K12: LOJA | L12: RUA SOFRE | M12: 42 | N12: GOIANIA | O12: 31950-140 | P12: MG | Q12: BELO HORIZONTE | R12: =IF(Q12="","",P12&"_"&Q12) -> MG_BELO HORIZONTE | S12: =IF(R12="","",IFERROR(VLOOKUP(R12,APOIO!$D:$E,2,0),"Não Encontrado")) -> 3106200
A13: FREDERICO | B13: JB | C13: BELO HORIZONTE | D13: 11 | E13: RENATO MARCOS DA CUNHA | F13: 00119056623 | G13: 41976 | H13: 31 | I13: 34766106 | K13: CONSUMIDOR | L13: RUA PINTARROXO | M13: 129 | N13: GOIANIA | O13: 31950-110 | P13: MG | Q13: BELO HORIZONTE | R13: =IF(Q13="","",P13&"_"&Q13) -> MG_BELO HORIZONTE | S13: =IF(R13="","",IFERROR(VLOOKUP(R13,APOIO!$D:$E,2,0),"Não Encontrado")) -> 3106200
A14: FREDERICO | B14: JB | C14: BELO HORIZONTE | D14: 14 | E14: DELCIDES JOSE SERAFIM | F14: 78280680691 | G14: 41977 | H14: 31 | I14: 34835511 | K14: CONSUMIDOR | L14: RUA JOSE CONDE | M14: 156 | N14: TUPI | O14: 31844-340 | P14: MG | Q14: BELO HORIZONTE | R14: =IF(Q14="","",P14&"_"&Q14) -> MG_BELO HORIZONTE | S14: =IF(R14="","",IFERROR(VLOOKUP(R14,APOIO!$D:$E,2,0),"Não Encontrado")) -> 3106200
A15: FREDERICO | B15: JB | C15: BELO HORIZONTE | D15: 18 | E15: NORBERTO VIEIRA DA SILVA | F15: 35912286649 | G15: 41977 | H15: 31 | I15: 34330201 | K15: CONSUMIDOR | L15: RUA JOSE ALEXANDRE FERREIRA | M15: 188 | N15: PAQUETA | O15: 31330-636 | P15: MG | Q15: BELO HORIZONTE | R15: =IF(Q15="","",P15&"_"&Q15) -> MG_BELO HORIZONTE | S15: =IF(R15="","",IFERROR(VLOOKUP(R15,APOIO!$D:$E,2,0),"Não Encontrado")) -> 3106200
A16: FREDERICO | B16: JB | C16: BELO HORIZONTE | D16: 19 | E16: JOSE CARLOS SOARES DO AMARAL EIRELI - ME | F16: 19615288000137 | G16: 41977 | H16: 31 | I16: 34922700 | K16: CONSUMIDOR | L16: RUA DEMETER | M16: 76 | N16: ANA LUCIA | O16: 34710-220 | P16: MG | Q16: Sabará | R16: =IF(Q16="","",P16&"_"&Q16) -> MG_Sabará | S16: =IF(R16="","",IFERROR(VLOOKUP(R16,APOIO!$D:$E,2,0),"Não Encontrado")) -> 3156700
... A19: FREDERICO | B19: JB | C19: BELO HORIZONTE | D19: 22 | E19: GISLENE MARIA DA SILVA FREITAS | F19: 19557857000135 | G19: 41977 | H19: 31 | I19: 35817940 | K19: LOJA | L19: AVENIDA PERIMETRAL | M19: 1489 | N19: CASTANHEIRA II | O19: 30670-020 | P19: MG | Q19: BELO HORIZONTE | R19: =IF(Q19="","",P19&"_"&Q19) -> MG_BELO HORIZONTE | S19: =IF(R19="","",IFERROR(VLOOKUP(R19,APOIO!$D:$E,2,0),"Não Encontrado")) -> 3106200
A20: FREDERICO | B20: JB | C20: BELO HORIZONTE | D20: 25 | E20: PEDROSA MATS PARA CONSTRUCAO EIRELI ME | F20: 20500040000100 | G20: 41977 | H20: 31 | I20: 88385564 | K20: LOJA | L20: AVENIDA JOAO PINHEIRO | N20: PEDRA BRANCA | O20: 34800-000 | P20: MG | Q20: Caeté | R20: =IF(Q20="","",P20&"_"&Q20) -> MG_Caeté | S20: =IF(R20="","",IFERROR(VLOOKUP(R20,APOIO!$D:$E,2,0),"Não Encontrado")) -> 3110004
A21: FREDERICO | B21: JB | C21: BELO HORIZONTE | D21: 27 | E21: CLESIO MARTINS CONEGUNDES | F21: 88306917634 | G21: 41977 | H21: 31 | I21: 34435077 | K21: LOJA | L21: RUA TIBIRICA | M21: 89 | N21: NOVA GRANADA | O21: 30450-000 | P21: MG | Q21: BELO HORIZONTE | R21: =IF(Q21="","",P21&"_"&Q21) -> MG_BELO HORIZONTE | S21: =IF(R21="","",IFERROR(VLOOKUP(R21,APOIO!$D:$E,2,0),"Não Encontrado")) -> 3106200
A22: FREDERICO | B22: JB | C22: BELO HORIZONTE | D22: 28 | E22: DEP DO CLIENTE MATS PARA CONSTRUCAO LTDA | F22: 01536773000150 | G22: 41977 | H22: 31 | I22: 33447429 | K22: LOJA | L22: RUA ONZE | M22: 40 | N22: VISTA DO SOL | O22: 31990-140 | P22: MG | Q22: BELO HORIZONTE | R22: =IF(Q22="","",P22&"_"&Q22) -> MG_BELO HORIZONTE | S22: =IF(R22="","",IFERROR(VLOOKUP(R22,APOIO!$D:$E,2,0),"Não Encontrado")) -> 3106200
A23: FREDERICO | B23: JB | C23: BELO HORIZONTE | D23: 31 | E23: CHRISTIANO ROBERTO GALINARI COSTA | F23: 06778043000189 | G23: 41977 | H23: 31 | I23: 34181188 | K23: LOJA | L23: AVENIDA DEPUTADO ANUAR MENHEN | M23: 470 | N23: SANTA AMELIA | O23: 31560-200 | P23: MG | Q23: BELO HORIZONTE | R23: =IF(Q23="","",P23&"_"&Q23) -> MG_BELO HORIZONTE | S23: =IF(R23="","",IFERROR(VLOOKUP(R23,APOIO!$D:$E,2,0),"Não Encontrado")) -> 3106200
A24: FREDERICO | B24: JB | C24: BELO HORIZONTE | D24: 33 | E24: NPA EMPREENDIMENTOS IMOBILIARIOS LTDA | F24: 18322316000165 | G24: 42046 | H24: 31 | I24: 33811598 | K24: CONSUMIDOR | L24: RUA SANTO ANTONIO DO MONTE | M24: 630 | N24: SANTO ANTONIO | O24: 30330-220 | P24: MG | Q24: BELO HORIZONTE | R24: =IF(Q24="","",P24&"_"&Q24) -> MG_BELO HORIZONTE | S24: =IF(R24="","",IFERROR(VLOOKUP(R24,APOIO!$D:$E,2,0),"Não Encontrado")) -> 3106200
A25: FREDERICO | B25: JB | C25: BELO HORIZONTE | D25: 38 | E25: POTIGUARA PIRES GLORIA | F25: 37867270663 | G25: 42046 | H25: 31 | I25: 96069225 | K25: CONSUMIDOR | L25: AVENIDA SILVIANO BRANDAO | M25: 1205 | N25: SAGRADA FAMILIA | O25: 31030-105 | P25: MG | Q25: BELO HORIZONTE | R25: =IF(Q25="","",P25&"_"&Q25) -> MG_BELO HORIZONTE | S25: =IF(R25="","",IFERROR(VLOOKUP(R25,APOIO!$D:$E,2,0),"Não Encontrado")) -> 3106200
A26: FREDERICO | B26: JB | C26: BELO HORIZONTE | D26: 43 | E26: DEPOSITO BOA VISTA E MATERIAIS DE CONSTRUCAO EIRELI | F26: 03918003000105 | G26: 42046 | H26: 31 | I26: 91574904 | K26: LOJA | L26: RUA LUDOVICO BARBOSA | M26: 208 | N26: PAU POMBO | O26: 34004-630 | P26: MG | Q26: NOVA LIMA | R26: =IF(Q26="","",P26&"_"&Q26) -> MG_NOVA LIMA | S26: =IF(R26="","",IFERROR(VLOOKUP(R26,APOIO!$D:$E,2,0),"Não Encontrado")) -> 3144805
A27: FREDERICO | B27: JB | C27: BELO HORIZONTE | D27: 44 | E27: HARTITEC MATS CONST LTDA | F27: 05965631000169 | G27: 42046 | H27: 31 | I27: 92753244 | K27: INDUSTRIA | L27: RUA GERALDO FERREIRA DAS MERCES | M27: 150 | N27: CHACARA B RETIRO | O27: 34000-000 | P27: MG | Q27: NOVA LIMA | R27: =IF(Q27="","",P27&"_"&Q27) -> MG_NOVA LIMA | S27: =IF(R27="","",IFERROR(VLOOKUP(R27,APOIO!$D:$E,2,0),"Não Encontrado")) -> 3144805
A28: FREDERICO | B28: JB | C28: BELO HORIZONTE | D28: 45 | E28: A A ANTER CONSTRUTORA E EMPREENDIMENTOS LTDA ME | F28: 03228993000141 | G28: 42046 | H28: 31 | I28: 32229658 | K28: CONSTRUTORA | L28: RUA CARDEAL STEPINAC | M28: 484 | N28: CIDADE NOVA | O28: 31170-220 | P28: MG | Q28: BELO HORIZONTE | R28: =IF(Q28="","",P28&"_"&Q28) -> MG_BELO HORIZONTE | S28: =IF(R28="","",IFERROR(VLOOKUP(R28,APOIO!$D:$E,2,0),"Não Encontrado")) -> 3106200
A29: FREDERICO | B29: JB | C29: BELO HORIZONTE | D29: 46 | E29: AAC SERVIÇOS E CONSTRUÇAO LTDA ME | F29: 07594813000104 | G29: 42046 | H29: 31 | I29: 30315121 | K29: CONSUMIDOR | L29: RUA JOAO DA LUZ FERNANDES | M29: 120 | N29: VILA SAO LUIZ | O29: 34000-000 | P29: MG | Q29: NOVA LIMA | R29: =IF(Q29="","",P29&"_"&Q29) -> MG_NOVA LIMA | S29: =IF(R29="","",IFERROR(VLOOKUP(R29,APOIO!$D:$E,2,0),"Não Encontrado")) -> 3144805
A30: FREDERICO | B30: JB | C30: BELO HORIZONTE | D30: 47 | E30: ABBOCCARE IND ALIMENTICIA LTDA | F30: 08452983000109 | G30: 42046 | H30: 31 | I30: 3078130 | K30: CONSUMIDOR | L30: RUA DR AGUINALDO MONTEIRO | M30: 215 | N30: CASTELO | O30: 31330-145 | P30: MG | Q30: BELO HORIZONTE | R30: =IF(Q30="","",P30&"_"&Q30) -> MG_BELO HORIZONTE | S30: =IF(R30="","",IFERROR(VLOOKUP(R30,APOIO!$D:$E,2,0),"Não Encontrado")) -> 3106200
A31: FREDERICO | B31: JB | C31: BELO HORIZONTE | D31: 50 | E31: EMP ABREU E OLIVEIRA CONST E REP COML LTDA | F31: 02287632000103 | G31: 42046 | K31: CONSTRUTORA | L31: RUA SAO SEBASTIAO DO PARAISO | M31: 78 | N31: ITAPOA | O31: 31710-080 | P31: MG | Q31: BELO HORIZONTE | R31: =IF(Q31="","",P31&"_"&Q31) -> MG_BELO HORIZONTE | S31: =IF(R31="","",IFERROR(VLOOKUP(R31,APOIO!$D:$E,2,0),"Não Encontrado")) -> 3106200
A32: FREDERICO | B32: JB | C32: BELO HORIZONTE | D32: 51 | E32: ABSOLUTA INT COM IMP EXP LTDA | F32: 11095294000107 | G32: 42046 | H32: 31 | I32: 34882081 | K32: CONSUMIDOR | L32: AVENIDA PRUDENTE DE MORAIS | M32: 890 | N32: CORACAO DE JESUS | O32: 30380-252 | P32: MG | Q32: BELO HORIZONTE | R32: =IF(Q32="","",P32&"_"&Q32) -> MG_BELO HORIZONTE | S32: =IF(R32="","",IFERROR(VLOOKUP(R32,APOIO!$D:$E,2,0),"Não Encontrado")) -> 3106200
A33: FREDERICO | B33: JB | C33: BELO HORIZONTE | D33: 52 | E33: ACADEMIA BMS LOURDES LTDA | F33: 18304358000173 | G33: 42046 | H33: 31 | I33: 30595656 | K33: CONSUMIDOR | L33: RUA CURITIBA | M33: 1606 | N33: LOURDES | O33: 30170-122 | P33: MG | Q33: BELO HORIZONTE | R33: =IF(Q33="","",P33&"_"&Q33) -> MG_BELO HORIZONTE | S33: =IF(R33="","",IFERROR(VLOOKUP(R33,APOIO!$D:$E,2,0),"Não Encontrado")) -> 3106200
A34: FREDERICO | B34: JB | C34: BELO HORIZONTE | D34: 53 | E34: ACBR PART E ADM LTDA | F34: 42764423000128 | G34: 42046 | H34: 31 | I34: 34930014 | K34: CONSUMIDOR | L34: AVENIDA BERNARDO MONTEIRO | M34: 1563 | N34: FUNCIONARIOS | O34: 30150-902 | P34: MG | Q34: BELO HORIZONTE | R34: =IF(Q34="","",P34&"_"&Q34) -> MG_BELO HORIZONTE | S34: =IF(R34="","",IFERROR(VLOOKUP(R34,APOIO!$D:$E,2,0),"Não Encontrado")) -> 3106200
A35: FREDERICO | B35: JB | C35: BELO HORIZONTE | D35: 54 | E35: ACIL ARTEFATOS DE CIMENTO SAO LUIZ LTDA | F35: 18778068000161 | G35: 42053 | H35: 31 | I35: 32863452 | K35: INDUSTRIA | L35: ROD BR 262 | M35: KM 14 | N35: SAO JOSE | O35: 31950-640 | P35: MG | Q35: BELO HORIZONTE | R35: =IF(Q35="","",P35&"_"&Q35) -> MG_BELO HORIZONTE | S35: =IF(R35="","",IFERROR(VLOOKUP(R35,APOIO!$D:$E,2,0),"Não Encontrado")) -> 3106200
A36: FREDERICO | B36: JB | C36: BELO HORIZONTE | D36: 55 | E36: ACJ EMP IMOB LTDA | F36: 13668460000134 | G36: 42053 | H36: 31 | I36: 23433380 | K36: CONSUMIDOR | L36: RUA SAO PAULO | M36: 1071 | N36: CENTRO | O36: 30170-907 | P36: MG | Q36: BELO HORIZONTE | R36: =IF(Q36="","",P36&"_"&Q36) -> MG_BELO HORIZONTE | S36: =IF(R36="","",IFERROR(VLOOKUP(R36,APOIO!$D:$E,2,0),"Não Encontrado")) -> 3106200
A37: FREDERICO | B37: JB | C37: BELO HORIZONTE | D37: 56 | E37: A CO TOTAL IND COM EIRELI ME | F37: 08434814000146 | G37: 42053 | H37: 31 | I37: 25151515 | K37: CONSUMIDOR | L37: AVENIDA OLINTO MEIRELES | M37: 2617C | N37: ARAGUAIA | O37: 30620-330 | P37: MG | Q37: BELO HORIZONTE | R37: =IF(Q37="","",P37&"_"&Q37) -> MG_BELO HORIZONTE | S37: =IF(R37="","",IFERROR(VLOOKUP(R37,APOIO!$D:$E,2,0),"Não Encontrado")) -> 3106200
A38: FREDERICO | B38: JB | C38: BELO HORIZONTE | D38: 58 | E38: AFONSO DOS REIS FRANCO | F38: 03723396000193 | G38: 42053 | K38: LOJA | L38: RUA BAHIA | M38: 131 | N38: OURO NEGRO | O38: 32400-000 | P38: MG | Q38: Ibirité | R38: =IF(Q38="","",P38&"_"&Q38) -> MG_Ibirité | S38: =IF(R38="","",IFERROR(VLOOKUP(R38,APOIO!$D:$E,2,0),"Não Encontrado")) -> 3129806
A39: FREDERICO | B39: JB | C39: BELO HORIZONTE | D39: 59 | E39: A C PARC E TERRAP LTDA | F39: 25290339000109 | G39: 42053 | K39: CONSTRUTORA | L39: RUA ALAGOAS | M39: 1270 | N39: FUNCIONARIOS | O39: 30130-160 | P39: MG | Q39: BELO HORIZONTE | R39: =IF(Q39="","",P39&"_"&Q39) -> MG_BELO HORIZONTE | S39: =IF(R39="","",IFERROR(VLOOKUP(R39,APOIO!$D:$E,2,0),"Não Encontrado")) -> 3106200
A40: FREDERICO | B40: JB | C40: BELO HORIZONTE | D40: 60 | E40: ADAIR RAMOS DA SILVA | F40: 59724200663 | G40: 42053 | H40: 31 | I40: 73571111 | K40: CONSUMIDOR | L40: RUA ARAGUARI | M40: 475 | N40: BARRO PRETO | O40: 30190-110 | P40: MG | Q40: BELO HORIZONTE | R40: =IF(Q40="","",P40&"_"&Q40) -> MG_BELO HORIZONTE | S40: =IF(R40="","",IFERROR(VLOOKUP(R40,APOIO!$D:$E,2,0),"Não Encontrado")) -> 3106200
A41: FREDERICO | B41: JB | C41: BELO HORIZONTE | D41: 61 | E41: ADAO CEZINO BARBOSA | F41: 02857404000121 | G41: 42053 | H41: 31 | I41: 35473192 | K41: LOJA | L41: AVENIDA A | M41: 585 | N41: DONA ROSARINHA | O41: 33080-300 | P41: MG | Q41: SANTA LUZIA | R41: =IF(Q41="","",P41&"_"&Q41) -> MG_SANTA LUZIA | S41: =IF(R41="","",IFERROR(VLOOKUP(R41,APOIO!$D:$E,2,0),"Não Encontrado")) -> 3157807
A42: FREDERICO | B42: JB | C42: BELO HORIZONTE | D42: 62 | E42: ADEMIR CHAVES DE OLIVEIRA | F42: 11905808615 | G42: 42053 | H42: 31 | I42: 32229426 | K42: CONSUMIDOR | L42: RUA ALDEBARAN | M42: 151 | N42: MANGABEIRAS | O42: 30315-145 | P42: MG | Q42: BELO HORIZONTE | R42: =IF(Q42="","",P42&"_"&Q42) -> MG_BELO HORIZONTE | S42: =IF(R42="","",IFERROR(VLOOKUP(R42,APOIO!$D:$E,2,0),"Não Encontrado")) -> 3106200
A43: FREDERICO | B43: JB | C43: BELO HORIZONTE | D43: 64 | E43: ADEMAR GONCALVES DE PAULA | F43: 73616362687 | G43: 42053 | K43: LOJA | L43: RUA BENTO | M43: 53 | N43: VILA SAO JORGE | O43: 30451-182 | P43: MG | Q43: BELO HORIZONTE | R43: =IF(Q43="","",P43&"_"&Q43) -> MG_BELO HORIZONTE | S43: =IF(R43="","",IFERROR(VLOOKUP(R43,APOIO!$D:$E,2,0),"Não Encontrado")) -> 3106200
A44: FREDERICO | B44: JB | C44: BELO HORIZONTE | D44: 65 | E44: ADILSON ANTONIO LAURIANO | F44: 76175227620 | G44: 42053 | H44: 31 | I44: 98601830 | K44: CONSUMIDOR | L44: RUA DOM LUCIO ANTUNES | M44: 424 | N44: CORACAO EUCARISTICO | O44: 30535-630 | P44: MG | Q44: BELO HORIZONTE | R44: =IF(Q44="","",P44&"_"&Q44) -> MG_BELO HORIZONTE | S44: =IF(R44="","",IFERROR(VLOOKUP(R44,APOIO!$D:$E,2,0),"Não Encontrado")) -> 3106200
A45: FREDERICO | B45: JB | C45: BELO HORIZONTE | D45: 66 | E45: ADILSON CARLOS LUIZ | F45: 71987045653 | G45: 42053 | H45: 31 | I45: 75370523 | K45: CONSUMIDOR | L45: RUA MARIA FRANCISCA GOMES | M45: 225 | N45: OURO PRETO | O45: 31340-025 | P45: MG | Q45: BELO HORIZONTE | R45: =IF(Q45="","",P45&"_"&Q45) -> MG_BELO HORIZONTE | S45: =IF(R45="","",IFERROR(VLOOKUP(R45,APOIO!$D:$E,2,0),"Não Encontrado")) -> 3106200
A46: FREDERICO | B46: JB | C46: BELO HORIZONTE | D46: 67 | E46: ADILSON DARIO DE ALMEIRA JR | F46: 75867273687 | G46: 42053 | H46: 31 | I46: 32976096 | K46: CONSUMIDOR | L46: RUA JOSE SILVA PASSOS | M46: 440 / 304 | N46: BOA VISTA | O46: 31070-022 | P46: MG | Q46: BELO HORIZONTE | R46: =IF(Q46="","",P46&"_"&Q46) -> MG_BELO HORIZONTE | S46: =IF(R46="","",IFERROR(VLOOKUP(R46,APOIO!$D:$E,2,0),"Não Encontrado")) -> 3106200
A47: FREDERICO | B47: JB | C47: BELO HORIZONTE | D47: 68 | E47: ADILSON DARIO DE ALMEIDA | F47: 29251451672 | G47: 42053 | H47: 31 | I47: 35427686 | K47: CONSUMIDOR | L47: RUA PROFESSOR ALCIDALIA | M47: 65 | N47: SAO GERALDO | O47: 31050-110 | P47: MG | Q47: BELO HORIZONTE | R47: =IF(Q47="","",P47&"_"&Q47) -> MG_BELO HORIZONTE | S47: =IF(R47="","",IFERROR(VLOOKUP(R47,APOIO!$D:$E,2,0),"Não Encontrado")) -> 3106200
A48: FREDERICO | B48: JB | C48: BELO HORIZONTE | D48: 69 | E48: ADRIANA MONTEIRO BALTAZAR NOGUEIRA | F48: 99785234649 | G48: 42053 | K48: CONSUMIDOR | L48: RUA ENGENHO DO MAR | M48: 140 | N48: ENGENHO NOGUEIRA | O48: 31320-480 | P48: MG | Q48: BELO HORIZONTE | R48: =IF(Q48="","",P48&"_"&Q48) -> MG_BELO HORIZONTE | S48: =IF(R48="","",IFERROR(VLOOKUP(R48,APOIO!$D:$E,2,0),"Não Encontrado")) -> 3106200
A49: FREDERICO | B49: JB | C49: BELO HORIZONTE | D49: 70 | E49: ADRIANA RODRIGUES GONCALVES | F49: 03434785604 | G49: 42053 | H49: 31 | I49: 32965356 | K49: CONSUMIDOR | L49: RUA HELIO DE SENNA FIGUEIREDO | M49: 127 | N49: SERRANO | O49: 30882-600 | P49: MG | Q49: BELO HORIZONTE | R49: =IF(Q49="","",P49&"_"&Q49) -> MG_BELO HORIZONTE | S49: =IF(R49="","",IFERROR(VLOOKUP(R49,APOIO!$D:$E,2,0),"Não Encontrado")) -> 3106200
A50: FREDERICO | B50: JB | C50: BELO HORIZONTE | D50: 71 | E50: COND DO EDIFICIO ALICE | F50: 20254990000100 | G50: 42053 | H50: 31 | I50: 32968020 | K50: CONSUMIDOR | L50: RUA JORNALISTA LENA SANTOS | M50: 245 | N50: FERNAO DIAS | O50: 31910-540 | P50: MG | Q50: BELO HORIZONTE | R50: =IF(Q50="","",P50&"_"&Q50) -> MG_BELO HORIZONTE | S50: =IF(R50="","",IFERROR(VLOOKUP(R50,APOIO!$D:$E,2,0),"Não Encontrado")) -> 3106200
A51: FREDERICO | B51: JB | C51: BELO HORIZONTE | D51: 72 | E51: AMPARA CONSTRUÇOES EIRELI | F51: 03556406000143 | G51: 42053 | H51: 31 | I51: 34972444 | K51: CONSTRUTORA | L51: RUA SEBASTIAO FABIANO DIAS | M51: 210 | N51: BELVEDERE | O51: 30320-690 | P51: MG | Q51: BELO HORIZONTE | R51: =IF(Q51="","",P51&"_"&Q51) -> MG_BELO HORIZONTE | S51: =IF(R51="","",IFERROR(VLOOKUP(R51,APOIO!$D:$E,2,0),"Não Encontrado")) -> 3106200
A52: FREDERICO | B52: JB | C52: BELO HORIZONTE | D52: 74 | E52: ADRIANO VASCONCELOS MONTEIRO | F52: 82926107668 | G52: 42053 | H52: 31 | I52: 33810647 | K52: CONSUMIDOR | L52: RUA CASTELO DE BELMONTE | M52: 269 | N52: CASTELO | O52: 31330-080 | P52: MG | Q52: BELO HORIZONTE | R52: =IF(Q52="","",P52&"_"&Q52) -> MG_BELO HORIZONTE | S52: =IF(R52="","",IFERROR(VLOOKUP(R52,APOIO!$D:$E,2,0),"Não Encontrado")) -> 3106200
A53: FREDERICO | B53: JB | C53: BELO HORIZONTE | D53: 76 | E53: AGB CONSTRUCOES LTDA | F53: 10832935000198 | G53: 42053 | H53: 31 | I53: 33172510 | K53: CONSTRUTORA | L53: RUA NELSON | M53: 447 | N53: UNIAO | O53: 33823-350 | P53: MG | Q53: BELO HORIZONTE | R53: =IF(Q53="","",P53&"_"&Q53) -> MG_BELO HORIZONTE | S53: =IF(R53="","",IFERROR(VLOOKUP(R53,APOIO!$D:$E,2,0),"Não Encontrado")) -> 3106200
A54: FREDERICO | B54: JB | C54: BELO HORIZONTE | D54: 77 | E54: AG BITENCOURT CONST E INCORPORADORA LTDA | F54: 14058114000105 | G54: 42053 | H54: 31 | I54: 36513737 | K54: CONSTRUTORA | L54: RUA CORONEL JAIRO PEREIRA | M54: 20 | N54: PALMARES | O54: 31160-560 | P54: MG | Q54: BELO HORIZONTE | R54: =IF(Q54="","",P54&"_"&Q54) -> MG_BELO HORIZONTE | S54: =IF(R54="","",IFERROR(VLOOKUP(R54,APOIO!$D:$E,2,0),"Não Encontrado")) -> 3106200
A55: FREDERICO | B55: JB | C55: BELO HORIZONTE | D55: 78 | E55: AGECOR ENG LTDA ME | F55: 13523970000113 | G55: 42053 | H55: 31 | I55: 32968020 | K55: CONSTRUTORA | L55: RUA OLIMPOS | M55: 240 | N55: ANA LUCIA | O55: 34710-110 | P55: MG | Q55: Sabará | R55: =IF(Q55="","",P55&"_"&Q55) -> MG_Sabará | S55: =IF(R55="","",IFERROR(VLOOKUP(R55,APOIO!$D:$E,2,0),"Não Encontrado")) -> 3156700
A56: FREDERICO | B56: JB | C56: BELO HORIZONTE | D56: 79 | E56: ELCIMAR APARECIDO FERNANDES COSTA | F56: 08274741000172 | G56: 42053 | H56: 31 | I56: 35413666 | K56: LOJA | L56: AVENIDA NAVEGANTES | M56: 134 | N56: AGUA LIMPA | O56: 34018-342 | P56: MG | Q56: NOVA LIMA | R56: =IF(Q56="","",P56&"_"&Q56) -> MG_NOVA LIMA | S56: =IF(R56="","",IFERROR(VLOOKUP(R56,APOIO!$D:$E,2,0),"Não Encontrado")) -> 3144805
A57: FREDERICO | B57: JB | C57: BELO HORIZONTE | D57: 81 | E57: AJ EMPREITEIRA LTDA - ME | F57: 14848179000146 | G57: 42053 | H57: 31 | I57: 30823335 | K57: CONSTRUTORA | L57: RUA DOS JACOBINOS | M57: 250 | N57: OURO MINAS | O57: 31870-290 | P57: MG | Q57: BELO HORIZONTE | R57: =IF(Q57="","",P57&"_"&Q57) -> MG_BELO HORIZONTE | S57: =IF(R57="","",IFERROR(VLOOKUP(R57,APOIO!$D:$E,2,0),"Não Encontrado")) -> 3106200
A58: FREDERICO | B58: JB | C58: BELO HORIZONTE | D58: 83 | E58: CONST ALASKA LTDA | F58: 02602968000113 | G58: 42053 | H58: 31 | I58: 34232288 | K58: CONSTRUTORA | L58: AVENIDA NOSSA SENHORA DO CARMO | M58: 1650 | N58: SION | O58: 30330-000 | P58: MG | Q58: BELO HORIZONTE | R58: =IF(Q58="","",P58&"_"&Q58) -> MG_BELO HORIZONTE | S58: =IF(R58="","",IFERROR(VLOOKUP(R58,APOIO!$D:$E,2,0),"Não Encontrado")) -> 3106200
A59: FREDERICO | B59: JB | C59: BELO HORIZONTE | D59: 84 | E59: ALBERT DO CARMO AMORIM | F59: 98917951600 | G59: 42053 | H59: 31 | I59: 36814217 | K59: CONSUMIDOR | L59: RUA DR RIGGI | M59: 323 | N59: COND LE COTAGE | O59: 34000-000 | P59: MG | Q59: NOVA LIMA | R59: =IF(Q59="","",P59&"_"&Q59) -> MG_NOVA LIMA | S59: =IF(R59="","",IFERROR(VLOOKUP(R59,APOIO!$D:$E,2,0),"Não Encontrado")) -> 3144805
A60: FREDERICO | B60: JB | C60: BELO HORIZONTE | D60: 85 | E60: ALCIDES DA SILVA RAMOS FILHO | F60: 22199446620 | G60: 42053 | H60: 31 | I60: 87055965 | K60: CONSUMIDOR | L60: RUA TEODORO DE ABREU | M60: 58 | N60: NOVA SUISSA | O60: 30421-131 | P60: MG | Q60: BELO HORIZONTE | R60: =IF(Q60="","",P60&"_"&Q60) -> MG_BELO HORIZONTE | S60: =IF(R60="","",IFERROR(VLOOKUP(R60,APOIO!$D:$E,2,0),"Não Encontrado")) -> 3106200
... A94: FREDERICO | B94: JB | C94: BELO HORIZONTE | D94: 124 | E94: AM ROCHA & FILHAS EMP IMOB LTDA ME | F94: 07718600000139 | G94: 42053 | H94: 31 | I94: 33248443 | K94: CONSUMIDOR | L94: RUA SILVERIA CANDIDA PINTO | M94: 17 | N94: LUXEMBURGO | O94: 30380-570 | P94: MG | Q94: BELO HORIZONTE | R94: =IF(Q94="","",P94&"_"&Q94) -> MG_BELO HORIZONTE | S94: =IF(R94="","",IFERROR(VLOOKUP(R94,APOIO!$D:$E,2,0),"Não Encontrado")) -> 3106200
A95: FREDERICO | B95: JB | C95: BELO HORIZONTE | D95: 125 | E95: ANA AP DE OLIVEIRA AQUINO | F95: 06145303000189 | G95: 42053 | K95: CONSUMIDOR | L95: RUA JOSE ANGELICO DE BARROS | M95: 169 | N95: JAQUELINE | O95: 31748-242 | P95: MG | Q95: BELO HORIZONTE | R95: =IF(Q95="","",P95&"_"&Q95) -> MG_BELO HORIZONTE | S95: =IF(R95="","",IFERROR(VLOOKUP(R95,APOIO!$D:$E,2,0),"Não Encontrado")) -> 3106200
A96: FREDERICO | B96: JB | C96: BELO HORIZONTE | D96: 126 | E96: ANA CLAUDIA SALES CLAVIS AMORIM | F96: 03259258604 | G96: 42053 | K96: CONSUMIDOR | L96: RUA MARES DE MONTANHA | M96: 1805 | N96: VALE DOS CRISTAIS | O96: 34000-000 | P96: MG | Q96: NOVA LIMA | R96: =IF(Q96="","",P96&"_"&Q96) -> MG_NOVA LIMA | S96: =IF(R96="","",IFERROR(VLOOKUP(R96,APOIO!$D:$E,2,0),"Não Encontrado")) -> 3144805
A97: FREDERICO | B97: JB | C97: BELO HORIZONTE | D97: 127 | E97: ANA CRISTINA PENNA WANDERLEY | F97: 62044001691 | G97: 42053 | H97: 31 | I97: 34341490 | K97: CONSUMIDOR | L97: RUA ANTONIO DE ALBUQUERQUE | M97: 156 | N97: FUNCIONARIOS | O97: 30112-010 | P97: MG | Q97: BELO HORIZONTE | R97: =IF(Q97="","",P97&"_"&Q97) -> MG_BELO HORIZONTE | S97: =IF(R97="","",IFERROR(VLOOKUP(R97,APOIO!$D:$E,2,0),"Não Encontrado")) -> 3106200
A98: FREDERICO | B98: JB | C98: BELO HORIZONTE | D98: 131 | E98: ANDERSON FABIO FERREIRA DA SILVA | F98: 06261260613 | G98: 42053 | H98: 31 | I98: 35423255 | K98: CONSUMIDOR | L98: RUA SOUZA MAGALHAES | M98: 305 | N98: BARREIRO DE BAIXO | O98: 30640-570 | P98: MG | Q98: BELO HORIZONTE | R98: =IF(Q98="","",P98&"_"&Q98) -> MG_BELO HORIZONTE | S98: =IF(R98="","",IFERROR(VLOOKUP(R98,APOIO!$D:$E,2,0),"Não Encontrado")) -> 3106200
A99: FREDERICO | B99: JB | C99: BELO HORIZONTE | D99: 132 | E99: ANDERSON REZENDE LEAL | F99: 66418887620 | G99: 42053 | H99: 31 | I99: 36723050 | K99: CONSUMIDOR | L99: RUA VICENTINA DE SOUZA | M99: 230 | N99: SAGRADA FAMILIA | O99: 31030-240 | P99: MG | Q99: BELO HORIZONTE | R99: =IF(Q99="","",P99&"_"&Q99) -> MG_BELO HORIZONTE | S99: =IF(R99="","",IFERROR(VLOOKUP(R99,APOIO!$D:$E,2,0),"Não Encontrado")) -> 3106200
A100: FREDERICO | B100: JB | C100: BELO HORIZONTE | D100: 133 | E100: ANDERSON RONCALLI SOARES PACHECO | F100: 54079900678 | G100: 42053 | H100: 31 | I100: 35777491 | K100: CONSUMIDOR | L100: RUA CRISTIANO OTONI | M100: 290 | N100: SANTA TEREZINHA | O100: 31365-240 | P100: MG | Q100: BELO HORIZONTE | R100: =IF(Q100="","",P100&"_"&Q100) -> MG_BELO HORIZONTE | S100: =IF(R100="","",IFERROR(VLOOKUP(R100,APOIO!$D:$E,2,0),"Não Encontrado")) -> 3106200
A101: FREDERICO | B101: JB | C101: BELO HORIZONTE | D101: 135 | E101: AIRES ALEXANDRE GONCALVES | F101: 09262061000100 | G101: 42053 | H101: 31 | I101: 99571420 | K101: LOJA | L101: RUA SETECENTOS E VINTE E SEIS | M101: 30 | N101: VITORIA | O101: 31970-626 | P101: MG | Q101: BELO HORIZONTE | R101: =IF(Q101="","",P101&"_"&Q101) -> MG_BELO HORIZONTE | S101: =IF(R101="","",IFERROR(VLOOKUP(R101,APOIO!$D:$E,2,0),"Não Encontrado")) -> 3106200
A102: FREDERICO | B102: JB | C102: BELO HORIZONTE | D102: 140 | E102: ANDRE FERREIRA BORGES | F102: 07811735660 | G102: 42053 | H102: 31 | I102: 34731245 | K102: CONSUMIDOR | L102: ALAMEDA DO CIPRESTE | M102: 41 | N102: OURO VELHO MANSOES | O102: 34000-000 | P102: MG | Q102: NOVA LIMA | R102: =IF(Q102="","",P102&"_"&Q102) -> MG_NOVA LIMA | S102: =IF(R102="","",IFERROR(VLOOKUP(R102,APOIO!$D:$E,2,0),"Não Encontrado")) -> 3144805
A103: FREDERICO | B103: JB | C103: BELO HORIZONTE | D103: 141 | E103: ANDRE LUIZ ALVES FANTAUZZI | F103: 07767806626 | G103: 42053 | H103: 31 | I103: 34275365 | K103: CONSUMIDOR | L103: RUA PADRE EUSTAQUIO | M103: 2151 | N103: PADRE EUSTAQUIO | O103: 30720-100 | P103: MG | Q103: BELO HORIZONTE | R103: =IF(Q103="","",P103&"_"&Q103) -> MG_BELO HORIZONTE | S103: =IF(R103="","",IFERROR(VLOOKUP(R103,APOIO!$D:$E,2,0),"Não Encontrado")) -> 3106200
A104: FREDERICO | B104: JB | C104: BELO HORIZONTE | D104: 142 | E104: ANGELA CASTANHEIRA RIBEIRO | F104: 68232705604 | G104: 42053 | H104: 31 | I104: 32613770 | K104: CONSUMIDOR | L104: ALAMEDA DOS IPES | M104: 427 | N104: COND. BOSQUE RIBEIRA | O104: 34000-000 | P104: MG | Q104: NOVA LIMA | R104: =IF(Q104="","",P104&"_"&Q104) -> MG_NOVA LIMA | S104: =IF(R104="","",IFERROR(VLOOKUP(R104,APOIO!$D:$E,2,0),"Não Encontrado")) -> 3144805
A105: FREDERICO | B105: JB | C105: BELO HORIZONTE | D105: 143 | E105: DEP DO ANGELO LTDA ME | F105: 11884206000148 | G105: 42053 | H105: 31 | I105: 34982329 | K105: LOJA | L105: RUA VISCONDE DE CAETE | M105: 167 | N105: DIAMANTE | O105: 30627-190 | P105: MG | Q105: BELO HORIZONTE | R105: =IF(Q105="","",P105&"_"&Q105) -> MG_BELO HORIZONTE | S105: =IF(R105="","",IFERROR(VLOOKUP(R105,APOIO!$D:$E,2,0),"Não Encontrado")) -> 3106200
A106: FREDERICO | B106: JB | C106: BELO HORIZONTE | D106: 144 | E106: ANGELO EVANGELISTA BALTAZAR | F106: 57494606653 | G106: 42053 | H106: 31 | I106: 21388763 | K106: CONSUMIDOR | L106: RUA ALDEBARAM | M106: 209 | N106: MANGABEIRAS | O106: 30315-145 | P106: MG | Q106: BELO HORIZONTE | R106: =IF(Q106="","",P106&"_"&Q106) -> MG_BELO HORIZONTE | S106: =IF(R106="","",IFERROR(VLOOKUP(R106,APOIO!$D:$E,2,0),"Não Encontrado")) -> 3106200
A107: FREDERICO | B107: JB | C107: BELO HORIZONTE | D107: 145 | E107: ANGELO REP E EMP LTDA | F107: 03967191000153 | G107: 42053 | H107: 31 | I107: 21027001 | K107: CONSUMIDOR | L107: RUA DOS GUAJAJARAS | M107: 910 | N107: CENTRO | O107: 30180-100 | P107: MG | Q107: BELO HORIZONTE | R107: =IF(Q107="","",P107&"_"&Q107) -> MG_BELO HORIZONTE | S107: =IF(R107="","",IFERROR(VLOOKUP(R107,APOIO!$D:$E,2,0),"Não Encontrado")) -> 3106200
A108: FREDERICO | B108: JB | C108: BELO HORIZONTE | D108: 146 | E108: ANGOLA MATERIAIS DE CONSTRUCAO LTDA | F108: 10888037000232 | G108: 42053 | H108: 31 | I108: 30117922 | K108: LOJA | L108: RUA JOAQUIM GOUVEA | M108: 241 | N108: SAO PAULO | O108: 31910-040 | P108: MG | Q108: BELO HORIZONTE | R108: =IF(Q108="","",P108&"_"&Q108) -> MG_BELO HORIZONTE | S108: =IF(R108="","",IFERROR(VLOOKUP(R108,APOIO!$D:$E,2,0),"Não Encontrado")) -> 3106200

Sheet APOIO
A1: Código Município IBGE/SAP | B1: UF | C1: Município IBGE | D1: UF_Município IBGE | E1: CÓD | F1: Código Microrregião IBGE | G1: Código Microrregião SAP/BI | H1: UF_Microrregião IBGE | I1: Código Microrregião SAP/BI | J1: Cidade Polo SP | K1: Código Mesorregião IBGE | L1: Código Mesorregião SAP/BI | M1: Mesorregião IBGE | N1: Código IBGE UF | O1: Unidade da Federação | Q1: Canais
A2: 1200013 | B2: AC | C2: Acrelândia | D2: AC_Acrelândia | E2: 1200013 | F2: 12004 | G2: BR1202004 | H2: AC_Rio Branco | I2: BR1202004 | K2: 1202 | L2: BR1202 | M2: AC_Vale do Acre | N2: 12 | O2: Acre | Q2: Consumidor | R2: Consumidor Final PF
A3: 1200054 | B3: AC | C3: Assis Brasil | D3: AC_Assis Brasil | E3: 1200054 | F3: 12005 | G3: BR1202005 | H3: AC_Brasiléia | I3: BR1202005 | K3: 1202 | L3: BR1202 | M3: AC_Vale do Acre | N3: 12 | O3: Acre | Q3: Construtora | R3: Construtoras prediais ou infraestrutura
A4: 1200104 | B4: AC | C4: Brasiléia | D4: AC_Brasiléia | E4: 1200104 | F4: 12005 | G4: BR1202005 | H4: AC_Brasiléia | I4: BR1202005 | K4: 1202 | L4: BR1202 | M4: AC_Vale do Acre | N4: 12 | O4: Acre | Q4: Indústria | R4: De todos os segmentos, argamassa, blocos, pré-moldados, etc
A5: 1200138 | B5: AC | C5: Bujari | D5: AC_Bujari | E5: 1200138 | F5: 12004 | G5: BR1202004 | H5: AC_Rio Branco | I5: BR1202004 | K5: 1202 | L5: BR1202 | M5: AC_Vale do Acre | N5: 12 | O5: Acre | Q5: Loja | R5: Revendas, Home Centers, Atacarejos
A6: 1200179 | B6: AC | C6: Capixaba | D6: AC_Capixaba | E6: 1200179 | F6: 12004 | G6: BR1202004 | H6: AC_Rio Branco | I6: BR1202004 | K6: 1202 | L6: BR1202 | M6: AC_Vale do Acre | N6: 12 | O6: Acre
A7: 1200203 | B7: AC | C7: Cruzeiro do Sul | D7: AC_Cruzeiro do Sul | E7: 1200203 | F7: 12001 | G7: BR1201001 | H7: AC_Cruzeiro do Sul | I7: BR1201001 | K7: 1201 | L7: BR1201 | M7: AC_Vale do Juruá | N7: 12 | O7: Acre
A8: 1200252 | B8: AC | C8: Epitaciolândia | D8: AC_Epitaciolândia | E8: 1200252 | F8: 12005 | G8: BR1202005 | H8: AC_Brasiléia | I8: BR1202005 | K8: 1202 | L8: BR1202 | M8: AC_Vale do Acre | N8: 12 | O8: Acre
A9: 1200302 | B9: AC | C9: Feijó | D9: AC_Feijó | E9: 1200302 | F9: 12002 | G9: BR1201002 | H9: AC_Tarauacá | I9: BR1201002 | K9: 1201 | L9: BR1201 | M9: AC_Vale do Juruá | N9: 12 | O9: Acre
A10: 1200328 | B10: AC | C10: Jordão | D10: AC_Jordão | E10: 1200328 | F10: 12002 | G10: BR1201002 | H10: AC_Tarauacá | I10: BR1201002 | K10: 1201 | L10: BR1201 | M10: AC_Vale do Juruá | N10: 12 | O10: Acre
A11: 1200336 | B11: AC | C11: Mâncio Lima | D11: AC_Mâncio Lima | E11: 1200336 | F11: 12001 | G11: BR1201001 | H11: AC_Cruzeiro do Sul | I11: BR1201001 | K11: 1201 | L11: BR1201 | M11: AC_Vale do Juruá | N11: 12 | O11: Acre
A12: 1200344 | B12: AC | C12: Manoel Urbano | D12: AC_Manoel Urbano | E12: 1200344 | F12: 12003 | G12: BR1202003 | H12: AC_Sena Madureira | I12: BR1202003 | K12: 1202 | L12: BR1202 | M12: AC_Vale do Acre | N12: 12 | O12: Acre
A13: 1200351 | B13: AC | C13: Marechal Thaumaturgo | D13: AC_Marechal Thaumaturgo | E13: 1200351 | F13: 12001 | G13: BR1201001 | H13: AC_Cruzeiro do Sul | I13: BR1201001 | K13: 1201 | L13: BR1201 | M13: AC_Vale do Juruá | N13: 12 | O13: Acre
A14: 1200385 | B14: AC | C14: Plácido de Castro | D14: AC_Plácido de Castro | E14: 1200385 | F14: 12004 | G14: BR1202004 | H14: AC_Rio Branco | I14: BR1202004 | K14: 1202 | L14: BR1202 | M14: AC_Vale do Acre | N14: 12 | O14: Acre
A15: 1200807 | B15: AC | C15: Porto Acre | D15: AC_Porto Acre | E15: 1200807 | F15: 12004 | G15: BR1202004 | H15: AC_Rio Branco | I15: BR1202004 | K15: 1202 | L15: BR1202 | M15: AC_Vale do Acre | N15: 12 | O15: Acre
A16: 1200393 | B16: AC | C16: Porto Walter | D16: AC_Porto Walter | E16: 1200393 | F16: 12001 | G16: BR1201001 | H16: AC_Cruzeiro do Sul | I16: BR1201001 | K16: 1201 | L16: BR1201 | M16: AC_Vale do Juruá | N16: 12 | O16: Acre
A17: 1200401 | B17: AC | C17: Rio Branco | D17: AC_Rio Branco | E17: 1200401 | F17: 12004 | G17: BR1202004 | H17: AC_Rio Branco | I17: BR1202004 | K17: 1202 | L17: BR1202 | M17: AC_Vale do Acre | N17: 12 | O17: Acre
... A4787: 2807600 | B4787: SE | C4787: Umbaúba | D4787: SE_Umbaúba | E4787: 2807600 | F4787: 28012 | G4787: BR2803012 | H4787: SE_Boquim | I4787: BR2803012 | K4787: 2803 | L4787: BR2803 | M4787: SE_Leste Sergipano | N4787: 28 | O4787: Sergipe
A4788: 3500105 | B4788: SP | C4788: Adamantina | D4788: SP_Adamantina | E4788: 3500105 | F4788: 35035 | G4788: BR3508035 | H4788: SP_Adamantina | I4788: BR3508035 | J4788: SP_Presidente Prudente | K4788: 3508 | L4788: BR3508 | M4788: SP_Presidente Prudente | N4788: 35 | O4788: São Paulo
A4789: 3500204 | B4789: SP | C4789: Adolfo | D4789: SP_Adolfo | E4789: 3500204 | F4789: 35004 | G4789: BR3501004 | H4789: SP_São José do Rio Preto | I4789: BR3501004 | J4789: SP_São José do Rio Preto | K4789: 3501 | L4789: BR3501 | M4789: SP_São José do Rio Preto | N4789: 35 | O4789: São Paulo
A4790: 3500303 | B4790: SP | C4790: Aguaí | D4790: SP_Aguaí | E4790: 3500303 | F4790: 35029 | G4790: BR3507029 | H4790: SP_Pirassununga | I4790: BR3507029 | J4790: SP_Campinas | K4790: 3507 | L4790: BR3507 | M4790: SP_Campinas | N4790: 35 | O4790: São Paulo
A4791: 3500402 | B4791: SP | C4791: Águas da Prata | D4791: SP_Águas da Prata | E4791: 3500402 | F4791: 35030 | G4791: BR3507030 | H4791: SP_São João da Boa Vista | I4791: BR3507030 | J4791: SP_Ribeirão Preto | K4791: 3507 | L4791: BR3507 | M4791: SP_Campinas | N4791: 35 | O4791: São Paulo
A4792: 3500501 | B4792: SP | C4792: Águas de Lindóia | D4792: SP_Águas de Lindóia | E4792: 3500501 | F4792: 35033 | G4792: BR3507033 | H4792: SP_Amparo | I4792: BR3507033 | J4792: SP_Atibaia | K4792: 3507 | L4792: BR3507 | M4792: SP_Campinas | N4792: 35 | O4792: São Paulo
A4793: 3500550 | B4793: SP | C4793: Águas de Santa Bárbara | D4793: SP_Águas de Santa Bárbara | E4793: 3500550 | F4793: 35022 | G4793: BR3504022 | H4793: SP_Avaré | I4793: BR3504022 | J4793: SP_Avaré | K4793: 3504 | L4793: BR3504 | M4793: SP_Bauru | N4793: 35 | O4793: São Paulo
A4794: 3500600 | B4794: SP | C4794: Águas de São Pedro | D4794: SP_Águas de São Pedro | E4794: 3500600 | F4794: 35028 | G4794: BR3506028 | H4794: SP_Piracicaba | I4794: BR3506028 | J4794: SP_Sorocaba | K4794: 3506 | L4794: BR3506 | M4794: SP_Piracicaba | N4794: 35 | O4794: São Paulo
A4795: 3500709 | B4795: SP | C4795: Agudos | D4795: SP_Agudos | E4795: 3500709 | F4795: 35020 | G4795: BR3504020 | H4795: SP_Bauru | I4795: BR3504020 | J4795: SP_Bauru | K4795: 3504 | L4795: BR3504 | M4795: SP_Bauru | N4795: 35 | O4795: São Paulo
A4796: 3500758 | B4796: SP | C4796: Alambari | D4796: SP_Alambari | E4796: 3500758 | F4796: 35042 | G4796: BR3511042 | H4796: SP_Itapetininga | I4796: BR3511042 | J4796: SP_Itapeva | K4796: 3511 | L4796: BR3511 | M4796: SP_Itapetininga | N4796: 35 | O4796: São Paulo
A4797: 3500808 | B4797: SP | C4797: Alfredo Marcondes | D4797: SP_Alfredo Marcondes | E4797: 3500808 | F4797: 35036 | G4797: BR3508036 | H4797: SP_Presidente Prudente | I4797: BR3508036 | J4797: SP_Presidente Prudente | K4797: 3508 | L4797: BR3508 | M4797: SP_Presidente Prudente | N4797: 35 | O4797: São Paulo
A4798: 3500907 | B4798: SP | C4798: Altair | D4798: SP_Altair | E4798: 3500907 | F4798: 35004 | G4798: BR3501004 | H4798: SP_São José do Rio Preto | I4798: BR3501004 | J4798: SP_São José do Rio Preto | K4798: 3501 | L4798: BR3501 | M4798: SP_São José do Rio Preto | N4798: 35 | O4798: São Paulo
A4799: 3501004 | B4799: SP | C4799: Altinópolis | D4799: SP_Altinópolis | E4799: 3501004 | F4799: 35015 | G4799: BR3502015 | H4799: SP_Batatais | I4799: BR3502015 | J4799: SP_Ribeirão Preto | K4799: 3502 | L4799: BR3502 | M4799: SP_Ribeirão Preto | N4799: 35 | O4799: São Paulo
... A5432: 3557154 | B5432: SP | C5432: Zacarias | D5432: SP_Zacarias | E5432: 3557154 | F5432: 35004 | G5432: BR3501004 | H5432: SP_São José do Rio Preto | I5432: BR3501004 | J5432: SP_São José do Rio Preto | K5432: 3501 | L5432: BR3501 | M5432: SP_São José do Rio Preto | N5432: 35 | O5432: São Paulo
A5433: 1700251 | B5433: TO | C5433: Abreulândia | D5433: TO_Abreulândia | E5433: 1700251 | F5433: 17003 | G5433: BR1701003 | H5433: TO_Miracema do Tocantins | I5433: BR1701003 | K5433: 1701 | L5433: BR1701 | M5433: TO_Ocidental do Tocantins | N5433: 17 | O5433: Tocantins
A5434: 1700301 | B5434: TO | C5434: Aguiarnópolis | D5434: TO_Aguiarnópolis | E5434: 1700301 | F5434: 17001 | G5434: BR1701001 | H5434: TO_Bico do Papagaio | I5434: BR1701001 | K5434: 1701 | L5434: BR1701 | M5434: TO_Ocidental do Tocantins | N5434: 17 | O5434: Tocantins
A5435: 1700350 | B5435: TO | C5435: Aliança do Tocantins | D5435: TO_Aliança do Tocantins | E5435: 1700350 | F5435: 17005 | G5435: BR1701005 | H5435: TO_Gurupi | I5435: BR1701005 | K5435: 1701 | L5435: BR1701 | M5435: TO_Ocidental do Tocantins | N5435: 17 | O5435: Tocantins
A5436: 1700400 | B5436: TO | C5436: Almas | D5436: TO_Almas | E5436: 1700400 | F5436: 17008 | G5436: BR1702008 | H5436: TO_Dianópolis | I5436: BR1702008 | K5436: 1702 | L5436: BR1702 | M5436: TO_Oriental do Tocantins | N5436: 17 | O5436: Tocantins
A5437: 1700707 | B5437: TO | C5437: Alvorada | D5437: TO_Alvorada | E5437: 1700707 | F5437: 17005 | G5437: BR1701005 | H5437: TO_Gurupi | I5437: BR1701005 | K5437: 1701 | L5437: BR1701 | M5437: TO_Ocidental do Tocantins | N5437: 17 | O5437: Tocantins
A5438: 1701002 | B5438: TO | C5438: Ananás | D5438: TO_Ananás | E5438: 1701002 | F5438: 17001 | G5438: BR1701001 | H5438: TO_Bico do Papagaio | I5438: BR1701001 | K5438: 1701 | L5438: BR1701 | M5438: TO_Ocidental do Tocantins | N5438: 17 | O5438: Tocantins
A5439: 1701051 | B5439: TO | C5439: Angico | D5439: TO_Angico | E5439: 1701051 | F5439: 17001 | G5439: BR1701001 | H5439: TO_Bico do Papagaio | I5439: BR1701001 | K5439: 1701 | L5439: BR1701 | M5439: TO_Ocidental do Tocantins | N5439: 17 | O5439: Tocantins
A5440: 1701101 | B5440: TO | C5440: Aparecida do Rio Negro | D5440: TO_Aparecida do Rio Negro | E5440: 1701101 | F5440: 17006 | G5440: BR1702006 | H5440: TO_Porto Nacional | I5440: BR1702006 | K5440: 1702 | L5440: BR1702 | M5440: TO_Oriental do Tocantins | N5440: 17 | O5440: Tocantins
A5441: 1701309 | B5441: TO | C5441: Aragominas | D5441: TO_Aragominas | E5441: 1701309 | F5441: 17002 | G5441: BR1701002 | H5441: TO_Araguaína | I5441: BR1701002 | K5441: 1701 | L5441: BR1701 | M5441: TO_Ocidental do Tocantins | N5441: 17 | O5441: Tocantins
A5442: 1701903 | B5442: TO | C5442: Araguacema | D5442: TO_Araguacema | E5442: 1701903 | F5442: 17003 | G5442: BR1701003 | H5442: TO_Miracema do Tocantins | I5442: BR1701003 | K5442: 1701 | L5442: BR1701 | M5442: TO_Ocidental do Tocantins | N5442: 17 | O5442: Tocantins
A5443: 1702000 | B5443: TO | C5443: Araguaçu | D5443: TO_Araguaçu | E5443: 1702000 | F5443: 17004 | G5443: BR1701004 | H5443: TO_Rio Formoso | I5443: BR1701004 | K5443: 1701 | L5443: BR1701 | M5443: TO_Ocidental do Tocantins | N5443: 17 | O5443: Tocantins
A5444: 1702109 | B5444: TO | C5444: Araguaína | D5444: TO_Araguaína | E5444: 1702109 | F5444: 17002 | G5444: BR1701002 | H5444: TO_Araguaína | I5444: BR1701002 | K5444: 1701 | L5444: BR1701 | M5444: TO_Ocidental do Tocantins | N5444: 17 | O5444: Tocantins
... A5571: 1722107 | B5571: TO | C5571: Xambioá | D5571: TO_Xambioá | E5571: 1722107 | F5571: 17002 | G5571: BR1701002 | H5571: TO_Araguaína | I5571: BR1701002 | K5571: 1701 | L5571: BR1701 | M5571: TO_Ocidental do Tocantins | N5571: 17 | O5571: Tocantins
